BEGIN:VCALENDAR
METHOD:PUBLISH
VERSION:2.0
CALSCALE:GREGORIAN
PRODID:-//NONSGML Sandhills Development\, LLC//NONSGML Sugar Calendar Fe
 eds v3.8.1//EN
X-WR-CALNAME:Beekeeping 101 (Beginner Beekeeping)
X-WR-CALDESC:Long Island Beekeepers Club
X-WR-TIMEZONE:America/New_York
BEGIN:VTIMEZONE
TZID:America/New_York
BEGIN:STANDARD
TZOFFSETFROM:-0400
TZOFFSETTO:-0500
DTSTART:20251102T060000
TZNAME:EST
END:STANDARD
END:VTIMEZONE
BEGIN:VTIMEZONE
TZID:America/New_York
BEGIN:STANDARD
TZOFFSETFROM:-0400
TZOFFSETTO:-0500
DTSTART:20251102T060000
TZNAME:EST
END:STANDARD
END:VTIMEZONE
BEGIN:VEVENT
SUMMARY:Beekeeping 101 (Beginner Beekeeping)
DESCRIPTION:THIS CLASS IS NOW FULL AND NO LONGER ACCEPTING NEW SIGNUPS\n
 \n\n\nA class designed for new beekeepers with limited to no experience.
 \n\n\n\nTopics will include:\n\n\n\n\nMembers of the hive\n\n\n\nHoney b
 ee biology and life cycle\n\n\n\nPackage bees vs. nucleus colonies and h
 ow to install Bees in equipment and get them started\n\n\n\nBee diseases
  and pests\n\n\n\nRecord keeping\n\n\n\nThe Good Neighbor Policy\n\n\n\n
 \nThe book provided is&nbsp\;The Beekeeper’s Handbook&nbsp\;and it is 
 included in the price.&nbsp\; Instructors are Long Island Beekeepers Clu
 b members. There will be time allotted to ask questions in the “break 
 out” sessions.&nbsp\; (If you already have the book\, you can get a di
 scounted price by contacting Grace)\n\n\n\nThe class will be held at the
  Unitarian Universalist Fellowship in Huntington\, 109 Browns Rd\, Hunti
 ngton\, NY 11743.&nbsp\; Doors open at 8:15 AM and instruction will star
 t at 8:30 AM with the day ending at approximately 2:00 PM. Coffee\, bage
 ls\, and water will be available\, or you can bring your own.&nbsp\; You
  may bring a bag lunch if you desire.\n\n\n\nAttendees must be members o
 f the Long Island Beekeepers Club.&nbsp\;Club dues are $40 per year.&nbs
 p\; Class price is $65. Sign up on the website and pay by PayPal\, or co
 ntact Grace to sign up and then send a check made out to&nbsp\;Long Isla
 nd Beekeepers Club&nbsp\;to our treasurer: Suzanne Cahill\, 30 Meadow Gl
 en Rd\, Northport\, NY 11768.\n\n\n\nIf you have any questions or need t
 o sign up without using PayPal\, you can contact Grace on her cell at 63
 1-766-5648 or at Education@longislandbeekeepers.org.
URL;VALUE=URI:https://longislandbeekeepers.org/events/beekeeping-101-202
 6/
UID:urn:uuid:bc3c926f-b721-4f32-8ddf-714bb0f9f952
STATUS:CONFIRMED
ORGANIZER:
DTSTAMP:20260423T173014Z
DTSTART;TZID=America/New_York:20260110T083000
DTEND;TZID=America/New_York:20260110T140000
LOCATION:109 Browns Rd
END:VEVENT
END:VCALENDAR