BEGIN:VCALENDAR
METHOD:PUBLISH
VERSION:2.0
CALSCALE:GREGORIAN
PRODID:-//NONSGML Sandhills Development\, LLC//NONSGML Sugar Calendar Fe
 eds v3.8.1//EN
X-WR-CALNAME:Beekeeping 101 - January 13\, 2024
X-WR-CALDESC:Long Island Beekeepers Club
X-WR-TIMEZONE:America/New_York
BEGIN:VTIMEZONE
TZID:America/New_York
BEGIN:STANDARD
TZOFFSETFROM:-0400
TZOFFSETTO:-0500
DTSTART:20231105T060000
TZNAME:EST
END:STANDARD
END:VTIMEZONE
BEGIN:VTIMEZONE
TZID:America/New_York
BEGIN:STANDARD
TZOFFSETFROM:-0400
TZOFFSETTO:-0500
DTSTART:20231105T060000
TZNAME:EST
END:STANDARD
END:VTIMEZONE
BEGIN:VEVENT
SUMMARY:Beekeeping 101 - January 13\, 2024
DESCRIPTION:A class designed for new beekeepers with limited to no exper
 ience.\n\n\n\nTopics will include:\n\n\n\n\nMembers of the hive\n\n\n\nH
 oney bee biology and life cycle\n\n\n\nPackage bees vs. nucleus colonies
  and how to install them in equipment\n\n\n\nBee diseases and pests\n\n\
 n\nRecord keeping\n\n\n\nThe Good Neighbor Policy\n\n\n\n\nThe book prov
 ided is The Beekeeper's Handbook and it is included in the price.&nbsp\;
  Instructors are Long Island Beekeepers Club members. There will be time
  allotted to ask questions in the “break out” sessions.&nbsp\; (If y
 ou already have the book\, you can get a discounted price by contacting 
 Grace)\n\n\n\nThe class will be held at the Unitarian Universalist Fello
 wship in Huntington\, 109 Browns Rd\, Huntington\, NY 11743.&nbsp\; Door
 s open at 8:00 AM and instruction will start at 8:45 AM with the day end
 ing at approximately 2:00 PM. Coffee\, bagels\, and water will be availa
 ble\, or you can bring your own with you.&nbsp\; Bring a bag lunch if yo
 u desire.\n\n\n\nAttendees must be members of the Long Island Beekeepers
  Club. Club dues are $35 per year.&nbsp\; The class price is $60. Sign u
 p on the website and pay by PayPal\, or contact Grace to sign up and the
 n send a check made out to LIBC to our treasurer: Suzanne Cahill\, 30 Me
 adow Glen Rd\, Northport\, NY 11768.\n\n\n\nIf you have any questions or
  need to sign up without using PayPal\, you can contact Grace on her cel
 l at 631-766-5648 or at Education@longislandbeekeepers.org.\n\n\n\nThis 
 class is now full.
URL;VALUE=URI:https://longislandbeekeepers.org/events/beekeeping-101-jan
 uary-13-2024/
UID:urn:uuid:5711ea5c-b548-411d-b2d5-10e6aa387507
STATUS:CONFIRMED
ORGANIZER:
DTSTAMP:20260423T190938Z
DTSTART;TZID=America/New_York:20240113T080000
DTEND;TZID=America/New_York:20240113T140000
LOCATION:Unitarian Universalist Fellowship in Huntington\, 109 Browns Rd
 \, Huntington\, NY 11743
END:VEVENT
END:VCALENDAR