BEGIN:VCALENDAR
METHOD:PUBLISH
VERSION:2.0
CALSCALE:GREGORIAN
PRODID:-//NONSGML Sandhills Development\, LLC//NONSGML Sugar Calendar Fe
 eds v3.8.1//EN
X-WR-CALNAME:Beekeeping 102 (Intermediate Beekeeping)
X-WR-CALDESC:Long Island Beekeepers Club
X-WR-TIMEZONE:America/New_York
BEGIN:VTIMEZONE
TZID:America/New_York
BEGIN:STANDARD
TZOFFSETFROM:-0400
TZOFFSETTO:-0500
DTSTART:20251102T060000
TZNAME:EST
END:STANDARD
BEGIN:DAYLIGHT
TZOFFSETFROM:-0500
TZOFFSETTO:-0400
DTSTART:20260308T070000
TZNAME:EDT
END:DAYLIGHT
END:VTIMEZONE
BEGIN:VTIMEZONE
TZID:America/New_York
BEGIN:STANDARD
TZOFFSETFROM:-0400
TZOFFSETTO:-0500
DTSTART:20251102T060000
TZNAME:EST
END:STANDARD
BEGIN:DAYLIGHT
TZOFFSETFROM:-0500
TZOFFSETTO:-0400
DTSTART:20260308T070000
TZNAME:EDT
END:DAYLIGHT
END:VTIMEZONE
BEGIN:VEVENT
SUMMARY:Beekeeping 102 (Intermediate Beekeeping)
DESCRIPTION:A&nbsp\;class designed for beekeepers with at least 1 or 2 y
 ears of experience but\, who want to further their education.\n\n\n\nTop
 ics include:\n\n\n\n\nSpring Management/Readiness\n\n\n\nVarroa Monitori
 ng and treatment\n\n\n\nSwarm prevention and bait boxes\n\n\n\nQueen eva
 luation and replacement\n\n\n\nMaking splits and nucs\n\n\n\nSupering fo
 r nectar flow and honey harvesting\n\n\n\nWhy did I lose my hive?\n\n\n\
 n\nThe recommended book for this class is&nbsp\;Honey Bee Biology and Be
 ekeeping&nbsp\;by Dewey Caron.&nbsp\; This book is not provided and not 
 mandatory\, but recommended to further your beekeeping knowledge. Instru
 ctors are Long Island Beekeepers Club members. There will be time allott
 ed to ask questions in the “break out” sessions.\n\n\n\nThe class wi
 ll be held at the Unitarian Universalist Fellowship in Huntington\, 109 
 Browns Rd\, Huntington\, NY 11743. Doors open at 8:15AM and instruction 
 will start at 8:30 AM\, with the day ending at approximately 2:00 PM. Co
 ffee\, water\, and Bagels will be available. You can bring your own food
  and beverage if desired as well.\n\n\n\nAttendees must be members of th
 e Long Island Beekeepers Club.&nbsp\;Club dues are $40 per year.&nbsp\; 
 Class price is $45. Sign up on the website and pay by PayPal\,&nbsp\;or&
 nbsp\;contact Grace by texting her at 631-766-5648 to sign up and then s
 end a check made out to&nbsp\;Long Island Beekeepers Club&nbsp\;to our t
 reasurer: Suzanne Cahill\, 30 Meadow Glen Rd\, Northport\, NY 11768.\n\n
 \n\nIf you have any questions\, you can contact Grace on her cell at 631
 -766-5648 or at Education@longislandbeekeepers.org.\n\n\n\n\n  \n  \n   
  \n    \n     Powered by
URL;VALUE=URI:https://longislandbeekeepers.org/events/beekeeping-102-202
 6/
UID:urn:uuid:bc3c926f-b721-4f32-8ddf-714bb0f9f952
STATUS:CONFIRMED
ORGANIZER:
DTSTAMP:20260423T173042Z
DTSTART;TZID=America/New_York:20260314T083000
DTEND;TZID=America/New_York:20260314T140000
LOCATION:109 Browns Rd
END:VEVENT
END:VCALENDAR