BEGIN:VCALENDAR
METHOD:PUBLISH
VERSION:2.0
CALSCALE:GREGORIAN
PRODID:-//NONSGML Sandhills Development\, LLC//NONSGML Sugar Calendar Fe
 eds v3.8.1//EN
X-WR-CALNAME:Beekeeping 102 - February 3\, 2024
X-WR-CALDESC:Long Island Beekeepers Club
X-WR-TIMEZONE:America/New_York
BEGIN:VTIMEZONE
TZID:America/New_York
BEGIN:STANDARD
TZOFFSETFROM:-0400
TZOFFSETTO:-0500
DTSTART:20231105T060000
TZNAME:EST
END:STANDARD
END:VTIMEZONE
BEGIN:VTIMEZONE
TZID:America/New_York
BEGIN:STANDARD
TZOFFSETFROM:-0400
TZOFFSETTO:-0500
DTSTART:20231105T060000
TZNAME:EST
END:STANDARD
END:VTIMEZONE
BEGIN:VEVENT
SUMMARY:Beekeeping 102 - February 3\, 2024
DESCRIPTION:A class designed for beekeepers with at least 1 or 2 years o
 f experience but\, who want to further their education.\n\n\n\nTopics in
 clude:\n\n\n\n\nSpring Management/Readiness\n\n\n\nVarroa Monitoring and
  treatment\n\n\n\nSwarm prevention and bait boxes\n\n\n\nQueen evaluatio
 n and replacement\n\n\n\nMaking splits and nucs\n\n\n\nSupering for nect
 ar flow and honey harvesting\n\n\n\nWhy did I lose my hive?\n\n\n\n\nThe
  recommended book for this class is Honey Bee Biology and Beekeeping by 
 Dewey Caron.&nbsp\; This book is not provided and not mandatory\, but re
 commended to further your beekeeping knowledge. Instructors are Long Isl
 and Beekeepers Club members. There will be time allotted to ask question
 s in the “break out” sessions.\n\n\n\nThe class will be held at the 
 Unitarian Universalist Fellowship in Huntington\, 109 Browns Rd\, Huntin
 gton\, NY 11743. Doors open at 8:00 AM and instruction will start at 8:4
 5 AM\, with the day ending at approximately 2:00 PM. Coffee\, water\, an
 d Bagels will be available. You can bring your own food and beverage if 
 desired as well.\n\n\n\nAttendees must be members of the Long Island Bee
 keepers Club. Club dues are $35 per year.&nbsp\; Class price is $40. Sig
 n up on the website and pay by PayPal\, or contact Grace to sign up and 
 then send a check made out to LIBC to our treasurer: Suzanne Cahill\, 30
  Meadow Glen Rd\, Northport\, NY 11768.\n\n\n\nIf you have any questions
  or need to sign up without using PayPal\, you can contact Grace on her 
 cell at 631-766-5648 or at Education@longislandbeekeepers.org.
URL;VALUE=URI:https://longislandbeekeepers.org/events/beekeeping-102-feb
 ruary-3-2024/
UID:urn:uuid:5711ea5c-b548-411d-b2d5-10e6aa387507
STATUS:CONFIRMED
ORGANIZER:
DTSTAMP:20260423T222034Z
DTSTART;TZID=America/New_York:20240203T080000
DTEND;TZID=America/New_York:20240203T140000
LOCATION:Unitarian Universalist Fellowship in Huntington\, 109 Browns Rd
 \, Huntington\, NY 11743
END:VEVENT
END:VCALENDAR