BEGIN:VCALENDAR
METHOD:PUBLISH
VERSION:2.0
CALSCALE:GREGORIAN
PRODID:-//NONSGML Sandhills Development\, LLC//NONSGML Sugar Calendar Fe
 eds v3.8.1//EN
X-WR-CALNAME:LIBC Holiday Party 2023
X-WR-CALDESC:Long Island Beekeepers Club
X-WR-TIMEZONE:America/New_York
BEGIN:VTIMEZONE
TZID:America/New_York
BEGIN:STANDARD
TZOFFSETFROM:-0400
TZOFFSETTO:-0500
DTSTART:20231105T060000
TZNAME:EST
END:STANDARD
END:VTIMEZONE
BEGIN:VTIMEZONE
TZID:America/New_York
BEGIN:STANDARD
TZOFFSETFROM:-0400
TZOFFSETTO:-0500
DTSTART:20231105T060000
TZNAME:EST
END:STANDARD
END:VTIMEZONE
BEGIN:VEVENT
SUMMARY:LIBC Holiday Party 2023
DESCRIPTION:Please join us this year in celebrating!Sunday\, December 3r
 d\, 1:00 – 4:00 PMAt the Elks Lodge/Blueblinds Mansion120 Edgewood Ave
 .\, Smithtown\, NY 11787\n\n\n\nMember cost is $30&nbsp\;per person&nbsp
 \;(Club is picking up the additional cost)Catered by Husk and Vine of St
 . JamesThere will be a BEE GRAB BAG!Bring a bee-related item (valued at 
 $20-25)\, NO HONEY please\,&nbsp\;and hold onto it for the "bee swap" ga
 me to exchange gifts.\n\n\n\nThe “Welcome” will start at 1:00 to 1:4
 5 in the lounge area where there will be a cash bar with appetizers prov
 ided. Dinner served in the Ball Room and will be buffet style with serve
 rs with the following choices:\n\n\n\n\nChicken Francais\n\n\n\nSteak an
 d Mushrooms\n\n\n\nPasta w/Brocoli\, oil and garlic\n\n\n\nShrimp Oregan
 ata\n\n\n\nEggplant Rollatini\n\n\n\nRoasted Potatoes/String Beans\n\n\n
 \nSalad\n\n\n\nRolls and Butter\n\n\n\nCoffee and&nbsp\;dessert\n\n\n\n\
 nThere will be Awards\, Door Prizes\, and Raffles. Honey Bee Carols will
  of course be sung with gusto!\n\n\n\nTicket sales now closed.\n\n\n\n\n
 \nDEADLINE:&nbsp\;&nbsp\;Money must be&nbsp\;received by the November 26
 th&nbsp\;Meeting.&nbsp\;Tickets will be limited\, so please make your re
 servations early and understand that late reservations may not be availa
 ble.
URL;VALUE=URI:https://longislandbeekeepers.org/events/libc-holiday-party
 -2023/
UID:urn:uuid:c118985a-b4ed-4fa8-a9aa-4031aec72afb
STATUS:CONFIRMED
ORGANIZER:
DTSTAMP:20260423T190810Z
DTSTART;TZID=America/New_York:20231203T130000
DTEND;TZID=America/New_York:20231203T160000
LOCATION:Elks Lodge/Blueblinds Mansion\, 120 Edgewood Ave\, Smithtown\, 
 NY 11787
END:VEVENT
END:VCALENDAR