BEGIN:VCALENDAR
METHOD:PUBLISH
VERSION:2.0
CALSCALE:GREGORIAN
PRODID:-//NONSGML Sandhills Development\, LLC//NONSGML Sugar Calendar Fe
 eds v3.8.1//EN
X-WR-CALNAME:LIBC Meeting - April 2024
X-WR-CALDESC:Long Island Beekeepers Club
X-WR-TIMEZONE:America/New_York
BEGIN:VTIMEZONE
TZID:America/New_York
BEGIN:STANDARD
TZOFFSETFROM:-0400
TZOFFSETTO:-0500
DTSTART:20231105T060000
TZNAME:EST
END:STANDARD
BEGIN:DAYLIGHT
TZOFFSETFROM:-0500
TZOFFSETTO:-0400
DTSTART:20240310T070000
TZNAME:EDT
END:DAYLIGHT
END:VTIMEZONE
BEGIN:VTIMEZONE
TZID:America/New_York
BEGIN:STANDARD
TZOFFSETFROM:-0400
TZOFFSETTO:-0500
DTSTART:20231105T060000
TZNAME:EST
END:STANDARD
BEGIN:DAYLIGHT
TZOFFSETFROM:-0500
TZOFFSETTO:-0400
DTSTART:20240310T070000
TZNAME:EDT
END:DAYLIGHT
END:VTIMEZONE
BEGIN:VEVENT
SUMMARY:LIBC Meeting - April 2024
DESCRIPTION:Join us for our monthly gathering to connect\, learn\, and s
 hare in our passion for beekeeping. Here's what we have planned:\n\n\n\n
 Welcome &amp\; Club Business\n\n\n\n\nPresident's Welcome: A brief welco
 me and overview of the meeting's agenda.\n\n\n\nTreasurer's Report: Upda
 te on the club's finances.\n\n\n\nMembership Report: News and updates on
  our club membership.\n\n\n\nClub News: Announcements and important news
  items.\n\n\n\n\nSpeaker Presentation\n\n\n\n\nImpacts of Systemic Pesti
 cide Exposure On Bees: A Case Study from Nebraska That's Affecting Us Al
 l\n\n\n\nPersistent losses of honey bee colonies across multiple Univers
 ity of Nebraska-Lincoln research apiaries in Mead\, NE and investigation
 s into bee losses uncovered a novel practice of disposing surplus outdat
 ed and pesticide-treated crop seeds through ethanol production. The impr
 oper disposal practice caused unprecedented pesticide exposure risk and 
 contamination in the surrounding air\, water\, soil\, and plants. Expose
 d colonies have had disruptions in worker behaviors and queen rearing ca
 pacity. Furthermore\, adverse impacts may linger with contaminated comb 
 and food stores. This isolated problem has provided unique opportunities
  to examine the short and long-term ecological\, environmental\, and hum
 an health impacts through a collaborative One Health systems approach wh
 ich has generated more awareness and stimulated legislative policy chang
 es across the US.\n\n\n\nDr. Judy Wu-Smart (Associate Professor &amp\; E
 xtension Specialist) received her MS at Washington State University unde
 r the advisement of Drs. Steve Sheppard and Carol Anelli and a PhD from 
 University of Minnesota with Dr. Marla Spivak. She has been the director
  of the University of Nebraska-Lincoln Bee Lab since 2015. At UNL\, she 
 and her team have been developing a robust pollinator health program for
  the Midwest region to help beekeepers\, scientists\, policy makers\, an
 d land managers understand the underlying stressors challenging bee heal
 th\, such as improper management of pests and diseases and exposure to p
 esticides. Community engagement and promoting science literacy around th
 ese complicated farm-to-table issues are also key components of our rese
 arch and extension education programs.\n\n\n\nTo find more about our pro
 grams and training opportunities visit https://entomology.unl.edu/bee-la
 b and https://gpmb.unl.edu/ or follow us on Facebook. \n\n\n\n\nBreak 
 &amp\; Door Prizes\n\n\n\nTake a moment to stretch your legs\, grab a re
 freshment\, and participate in our raffle. It's a great chance to mingle
  with fellow members and win some beekeeping goodies!\n\n\n\nWhat's Happ
 ening In The Hive\n\n\n\nAn engaging discussion on current beekeeping ac
 tivities\, what to expect in your hives this time of year\, and tips for
  managing your bees effectively.\n\n\n\nDoors open at 12:30 PM\, Meeting
  starts at 1:00 PM
URL;VALUE=URI:https://longislandbeekeepers.org/events/libc-meeting-april
 -2024/
UID:urn:uuid:880b77d4-ffd7-42a6-8d01-ba6d42f00ad3
STATUS:CONFIRMED
ORGANIZER:
DTSTAMP:20260423T204258Z
DTSTART;TZID=America/New_York:20240428T130000
DTEND;TZID=America/New_York:20240428T150000
LOCATION:Building 2\, Sisters of St. Joseph\, 1725 Brentwood Rd\, Brentw
 ood\, NY
END:VEVENT
END:VCALENDAR