BEGIN:VCALENDAR
METHOD:PUBLISH
VERSION:2.0
CALSCALE:GREGORIAN
PRODID:-//NONSGML Sandhills Development\, LLC//NONSGML Sugar Calendar Fe
 eds v3.8.1//EN
X-WR-CALNAME:LIBC Meeting - January 2026
X-WR-CALDESC:Long Island Beekeepers Club
X-WR-TIMEZONE:America/New_York
BEGIN:VTIMEZONE
TZID:America/New_York
BEGIN:STANDARD
TZOFFSETFROM:-0400
TZOFFSETTO:-0500
DTSTART:20251102T060000
TZNAME:EST
END:STANDARD
END:VTIMEZONE
BEGIN:VTIMEZONE
TZID:America/New_York
BEGIN:STANDARD
TZOFFSETFROM:-0400
TZOFFSETTO:-0500
DTSTART:20251102T060000
TZNAME:EST
END:STANDARD
END:VTIMEZONE
BEGIN:VEVENT
SUMMARY:LIBC Meeting - January 2026
DESCRIPTION:Join us for our monthly gathering to connect\, learn\, and s
 hare in our passion for beekeeping. Here's what we have planned:\n\n\n\n
 Welcome &amp\; Club Business\n\n\n\n\nPresident's Welcome: A brief welco
 me and overview of the meeting's agenda.\n\n\n\nTreasurer's Report: Upda
 te on the club's finances.\n\n\n\nMembership Report: News and updates on
  our club membership.\n\n\n\nClub News: Announcements and important news
  items.\n\n\n\n\n\nSPEAKER\n\n\n\nRobyn Underwood - Penn State Extension
  Educator\, Apiculture Department.\n\n\n\nDue to weather\, the meeting w
 ill be virtual through Zoom. The members only link will be shared by ema
 il to all members who have paid their 2026 dues. If you haven't\, please
  join or login and renew your membership.\n\n\n\nMeeting starts at 1:00 
 PM
URL;VALUE=URI:https://longislandbeekeepers.org/events/libc-meeting-jan-2
 026/
UID:urn:uuid:880b77d4-ffd7-42a6-8d01-ba6d42f00ad3
STATUS:CONFIRMED
ORGANIZER:
DTSTAMP:20260423T190810Z
DTSTART;TZID=America/New_York:20260125T130000
DTEND;TZID=America/New_York:20260125T150000
LOCATION:Sisters of St Joseph\, 1725 Brentwood Rd\, Bldg 4\, Brentwood\,
  NY 11717
END:VEVENT
END:VCALENDAR