BEGIN:VCALENDAR
METHOD:PUBLISH
VERSION:2.0
CALSCALE:GREGORIAN
PRODID:-//NONSGML Sandhills Development\, LLC//NONSGML Sugar Calendar Fe
 eds v3.8.1//EN
X-WR-CALNAME:LIBC Meeting - March 2024
X-WR-CALDESC:Long Island Beekeepers Club
X-WR-TIMEZONE:America/New_York
BEGIN:VTIMEZONE
TZID:America/New_York
BEGIN:STANDARD
TZOFFSETFROM:-0400
TZOFFSETTO:-0500
DTSTART:20231105T060000
TZNAME:EST
END:STANDARD
BEGIN:DAYLIGHT
TZOFFSETFROM:-0500
TZOFFSETTO:-0400
DTSTART:20240310T070000
TZNAME:EDT
END:DAYLIGHT
END:VTIMEZONE
BEGIN:VTIMEZONE
TZID:America/New_York
BEGIN:STANDARD
TZOFFSETFROM:-0400
TZOFFSETTO:-0500
DTSTART:20231105T060000
TZNAME:EST
END:STANDARD
BEGIN:DAYLIGHT
TZOFFSETFROM:-0500
TZOFFSETTO:-0400
DTSTART:20240310T070000
TZNAME:EDT
END:DAYLIGHT
END:VTIMEZONE
BEGIN:VEVENT
SUMMARY:LIBC Meeting - March 2024
DESCRIPTION:Join us for our monthly gathering to connect\, learn\, and s
 hare in our passion for beekeeping. Here's what we have planned:\n\n\n\n
 Welcome &amp\; Club Business\n\n\n\n\nPresident's Welcome: A brief welco
 me and overview of the meeting's agenda.\n\n\n\nTreasurer's Report: Upda
 te on the club's finances.\n\n\n\nMembership Report: News and updates on
  our club membership.\n\n\n\nClub News: Announcements and important news
  items.\n\n\n\n\nSpeaker Presentation\n\n\n\nOur speaker will be Bill He
 sbach discussing Pollen.\n\n\n\nBreak &amp\; Door Prizes\n\n\n\nTake a m
 oment to stretch your legs\, grab a refreshment\, and participate in our
  raffle. It's a great chance to mingle with fellow members and win some 
 beekeeping goodies!\n\n\n\nWhat's Happening In The Hive\n\n\n\nAn engagi
 ng discussion on current beekeeping activities\, what to expect in your 
 hives this time of year\, and tips for managing your bees effectively.\n
 \n\n\nDoors open at 12:30 PM\, Meeting starts at 1:00 PM
URL;VALUE=URI:https://longislandbeekeepers.org/events/libc-meeting-march
 -2024/
UID:urn:uuid:880b77d4-ffd7-42a6-8d01-ba6d42f00ad3
STATUS:CONFIRMED
ORGANIZER:
DTSTAMP:20260423T203721Z
DTSTART;TZID=America/New_York:20240324T130000
DTEND;TZID=America/New_York:20240324T150000
LOCATION:Building 2\, Sisters of St. Joseph\, 1725 Brentwood Rd\, Brentw
 ood\, NY
END:VEVENT
END:VCALENDAR