BEGIN:VCALENDAR
METHOD:PUBLISH
VERSION:2.0
CALSCALE:GREGORIAN
PRODID:-//NONSGML Sandhills Development\, LLC//NONSGML Sugar Calendar Fe
 eds v3.8.1//EN
X-WR-CALNAME:LIBC Meeting - November 2025
X-WR-CALDESC:Long Island Beekeepers Club
X-WR-TIMEZONE:America/New_York
BEGIN:VTIMEZONE
TZID:America/New_York
BEGIN:STANDARD
TZOFFSETFROM:-0400
TZOFFSETTO:-0500
DTSTART:20251102T060000
TZNAME:EST
END:STANDARD
END:VTIMEZONE
BEGIN:VTIMEZONE
TZID:America/New_York
BEGIN:STANDARD
TZOFFSETFROM:-0400
TZOFFSETTO:-0500
DTSTART:20251102T060000
TZNAME:EST
END:STANDARD
END:VTIMEZONE
BEGIN:VEVENT
SUMMARY:LIBC Meeting - November 2025
DESCRIPTION:Join us for our monthly gathering to connect\, learn\, and s
 hare in our passion for beekeeping. Here's what we have planned:\n\n\n\n
 Welcome &amp\; Club Business\n\n\n\n\nPresident's Welcome: A brief welco
 me and overview of the meeting's agenda.\n\n\n\nTreasurer's Report: Upda
 te on the club's finances.\n\n\n\nMembership Report: News and updates on
  our club membership.\n\n\n\nClub News: Announcements and important news
  items.\n\n\n\n\n\nSPEAKER\n\n\n\nTBA\n\n\n\nThe meeting will still be a
 t building 4&nbsp\;of the Sisters of St. Joseph\, 1725 Brentwood Rd\, Br
 entwood NY.&nbsp\;&nbsp\;Follow the yellow bee meeting signs!&nbsp\; The
  doors will open at 12:30. The meeting will start at 1:00.&nbsp\;\n\n\n\
 nDoors open at 12:30 PM\, Meeting starts at 1:00 PM
URL;VALUE=URI:https://longislandbeekeepers.org/events/libc-meeting-nov-2
 025/
UID:urn:uuid:880b77d4-ffd7-42a6-8d01-ba6d42f00ad3
STATUS:CONFIRMED
ORGANIZER:
DTSTAMP:20260423T173105Z
DTSTART;TZID=America/New_York:20251123T130000
DTEND;TZID=America/New_York:20251123T150000
LOCATION:Sisters of St Joseph\, 1725 Brentwood Rd\, Bldg 4\, Brentwood\,
  NY 11717
END:VEVENT
END:VCALENDAR