BEGIN:VCALENDAR
METHOD:PUBLISH
VERSION:2.0
CALSCALE:GREGORIAN
PRODID:-//NONSGML Sandhills Development\, LLC//NONSGML Sugar Calendar Fe
 eds v3.8.1//EN
X-WR-CALNAME:LIBC Meeting - January 2025
X-WR-CALDESC:Long Island Beekeepers Club
X-WR-TIMEZONE:America/New_York
BEGIN:VTIMEZONE
TZID:America/New_York
BEGIN:STANDARD
TZOFFSETFROM:-0400
TZOFFSETTO:-0500
DTSTART:20241103T060000
TZNAME:EST
END:STANDARD
END:VTIMEZONE
BEGIN:VTIMEZONE
TZID:America/New_York
BEGIN:STANDARD
TZOFFSETFROM:-0400
TZOFFSETTO:-0500
DTSTART:20241103T060000
TZNAME:EST
END:STANDARD
END:VTIMEZONE
BEGIN:VEVENT
SUMMARY:LIBC Meeting - January 2025
DESCRIPTION:Join us for our monthly gathering to connect\, learn\, and s
 hare in our passion for beekeeping. Here's what we have planned:\n\n\n\n
 Welcome &amp\; Club Business\n\n\n\n\nPresident's Welcome: A brief welco
 me and overview of the meeting's agenda.\n\n\n\nTreasurer's Report: Upda
 te on the club's finances.\n\n\n\nMembership Report: News and updates on
  our club membership.\n\n\n\nClub News: Announcements and important news
  items.\n\n\n\n\nSpeaker Presentation\n\n\n\n\nTim McMahon is an EAS Mas
 ter Beekeeper and a Georgia Master Beekeeper. &nbsp\;He has kept bees fo
 r almost 20 years now and at his peak was up to 28 hives. &nbsp\;He was 
 a Chemical Engineer for the Federal Government until his retirement last
  month and now is the volunteer Native Bee Curator at the Smithsonian Mu
 seum. &nbsp\;Mr. McMahon has worked with native bees for more than 15 ye
 ars and is involved with multiple projects in Maryland\, his home\, as w
 ell as projects in Arizona and Costa Rica.\n\n\n\n\nBreak &amp\; Door Pr
 izes\n\n\n\nTake a moment to stretch your legs\, grab a refreshment\, an
 d participate in our raffle. It's a great chance to mingle with fellow m
 embers and win some beekeeping goodies!\n\n\n\nWhat's Happening In The H
 ive\n\n\n\nAn engaging discussion on current beekeeping activities\, wha
 t to expect in your hives this time of year\, and tips for managing your
  bees effectively.\n\n\n\nDoors open at 12:30 PM\, Meeting starts at 1:0
 0 PM
URL;VALUE=URI:https://longislandbeekeepers.org/events/libc-meeting-novem
 ber-2024-2/
UID:urn:uuid:880b77d4-ffd7-42a6-8d01-ba6d42f00ad3
STATUS:CONFIRMED
ORGANIZER:
DTSTAMP:20260423T203930Z
DTSTART;TZID=America/New_York:20250126T130000
DTEND;TZID=America/New_York:20250126T150000
LOCATION:Sisters of St Joseph\, 1725 Brentwood Rd\, Brentwood\, NY 11717
END:VEVENT
END:VCALENDAR