BEGIN:VCALENDAR
METHOD:PUBLISH
VERSION:2.0
CALSCALE:GREGORIAN
PRODID:-//NONSGML Sandhills Development\, LLC//NONSGML Sugar Calendar Fe
 eds v3.8.1//EN
X-WR-CALNAME:LIBC Meeting - September 2025
X-WR-CALDESC:Long Island Beekeepers Club
X-WR-TIMEZONE:America/New_York
BEGIN:VTIMEZONE
TZID:America/New_York
BEGIN:DAYLIGHT
TZOFFSETFROM:-0400
TZOFFSETTO:-0400
DTSTART:20250316T010000
TZNAME:EDT
END:DAYLIGHT
END:VTIMEZONE
BEGIN:VTIMEZONE
TZID:America/New_York
BEGIN:DAYLIGHT
TZOFFSETFROM:-0400
TZOFFSETTO:-0400
DTSTART:20250316T010000
TZNAME:EDT
END:DAYLIGHT
END:VTIMEZONE
BEGIN:VEVENT
SUMMARY:LIBC Meeting - September 2025
DESCRIPTION:Join us for our monthly gathering to connect\, learn\, and s
 hare in our passion for beekeeping. Here's what we have planned:\n\n\n\n
 Welcome &amp\; Club Business\n\n\n\n\nPresident's Welcome: A brief welco
 me and overview of the meeting's agenda.\n\n\n\nTreasurer's Report: Upda
 te on the club's finances.\n\n\n\nMembership Report: News and updates on
  our club membership.\n\n\n\nClub News: Announcements and important news
  items.\n\n\n\n\nSpeaker Presentation\n\n\n\n\nDue to a conflict using o
 ur room at Sister's of St. Joseph on our normal meeting day\, our upcomi
 ng meeting has been rescheduled for September 14th.\n\n\n\nThe meeting 
 will still be at building 4 of the Sisters of St. Joseph\, 1725 Brentwo
 od Rd\, Brentwood NY.  Follow the yellow bee meeting signs!  The door
 s will open at 12:30. The meeting will start at 1:00. \n\n\n\nIf you ar
 e bringing honey for the honey tasting competition\, please arrive no l
 ater than 12:45 so your honey can be checked in.  Each Family/Apiary is
  allowed ONLY ONE jar entry.  The entry should be in a 1 lb jar WITH NO
  LABEL.  The committee checking in the jars will assign it to the light
 \, medium or dark cataegory.\n\n\n\n\nDoors open at 12:30 PM\, Meeting s
 tarts at 1:00 PM
URL;VALUE=URI:https://longislandbeekeepers.org/events/libc-meeting-sep-2
 025/
UID:urn:uuid:880b77d4-ffd7-42a6-8d01-ba6d42f00ad3
STATUS:CONFIRMED
ORGANIZER:
DTSTAMP:20260423T190834Z
DTSTART;TZID=America/New_York:20250914T130000
DTEND;TZID=America/New_York:20250914T150000
LOCATION:Sisters of St Joseph\, 1725 Brentwood Rd\, Bldg 4\, Brentwood\,
  NY 11717
END:VEVENT
END:VCALENDAR