BEGIN:VCALENDAR
METHOD:PUBLISH
VERSION:2.0
CALSCALE:GREGORIAN
PRODID:-//NONSGML Sandhills Development\, LLC//NONSGML Sugar Calendar Fe
 eds v3.8.1//EN
X-WR-CALNAME:LIBC Meeting
X-WR-CALDESC:Long Island Beekeepers Club
X-WR-TIMEZONE:America/New_York
BEGIN:VTIMEZONE
TZID:America/New_York
BEGIN:STANDARD
TZOFFSETFROM:-0400
TZOFFSETTO:-0500
DTSTART:20231105T060000
TZNAME:EST
END:STANDARD
END:VTIMEZONE
BEGIN:VTIMEZONE
TZID:America/New_York
BEGIN:STANDARD
TZOFFSETFROM:-0400
TZOFFSETTO:-0500
DTSTART:20231105T060000
TZNAME:EST
END:STANDARD
END:VTIMEZONE
BEGIN:VEVENT
SUMMARY:LIBC Meeting
DESCRIPTION:
URL;VALUE=URI:https://longislandbeekeepers.org/events/libc-meeting/
UID:urn:uuid:375f64fa-c31a-4cd8-89c4-495a4da69c16
STATUS:CONFIRMED
ORGANIZER:
DTSTAMP:20260423T203444Z
DTSTART;TZID=America/New_York:20240128T130000
DTEND;TZID=America/New_York:20240128T153000
LOCATION:Sisters of St Joseph\, Brentwood
END:VEVENT
END:VCALENDAR