BEGIN:VCALENDAR
METHOD:PUBLISH
VERSION:2.0
CALSCALE:GREGORIAN
PRODID:-//NONSGML Sandhills Development\, LLC//NONSGML Sugar Calendar Fe
 eds v3.8.1//EN
X-WR-CALNAME:LIBC Summer Picnic - July 2025
X-WR-CALDESC:Long Island Beekeepers Club
X-WR-TIMEZONE:America/New_York
BEGIN:VTIMEZONE
TZID:America/New_York
BEGIN:DAYLIGHT
TZOFFSETFROM:-0500
TZOFFSETTO:-0400
DTSTART:20250309T070000
TZNAME:EDT
END:DAYLIGHT
END:VTIMEZONE
BEGIN:VTIMEZONE
TZID:America/New_York
BEGIN:DAYLIGHT
TZOFFSETFROM:-0500
TZOFFSETTO:-0400
DTSTART:20250309T070000
TZNAME:EDT
END:DAYLIGHT
END:VTIMEZONE
BEGIN:VEVENT
SUMMARY:LIBC Summer Picnic - July 2025
DESCRIPTION:Details Coming Soon
URL;VALUE=URI:https://longislandbeekeepers.org/events/libc-summer-picnic
 -july-2025/
UID:urn:uuid:880b77d4-ffd7-42a6-8d01-ba6d42f00ad3
STATUS:CONFIRMED
ORGANIZER:
DTSTAMP:20260423T203731Z
DTSTART;TZID=America/New_York:20250727T130000
DTEND;TZID=America/New_York:20250727T150000
LOCATION:Smithtown Historical Society\, 239 E Main St\, Smithtown\, NY 1
 1787
END:VEVENT
END:VCALENDAR