BEGIN:VCALENDAR
METHOD:PUBLISH
VERSION:2.0
CALSCALE:GREGORIAN
PRODID:-//NONSGML Sandhills Development\, LLC//NONSGML Sugar Calendar Fe
 eds v3.8.1//EN
X-WR-CALNAME:November 2023 Monthly Meeting
X-WR-CALDESC:Long Island Beekeepers Club
X-WR-TIMEZONE:America/New_York
BEGIN:VTIMEZONE
TZID:America/New_York
BEGIN:STANDARD
TZOFFSETFROM:-0400
TZOFFSETTO:-0500
DTSTART:20231105T060000
TZNAME:EST
END:STANDARD
END:VTIMEZONE
BEGIN:VTIMEZONE
TZID:America/New_York
BEGIN:STANDARD
TZOFFSETFROM:-0400
TZOFFSETTO:-0500
DTSTART:20231105T060000
TZNAME:EST
END:STANDARD
END:VTIMEZONE
BEGIN:VEVENT
SUMMARY:November 2023 Monthly Meeting
DESCRIPTION:LIBC Honey Tasting Contest\nWhat is Happening in the Hive
URL;VALUE=URI:https://longislandbeekeepers.org/events/november-2023-mont
 hly-meeting/
UID:urn:uuid:b7f0cd20-410a-40d1-aa56-f9d81e0beaa9
STATUS:CONFIRMED
ORGANIZER:
DTSTAMP:20260423T191117Z
DTSTART;TZID=America/New_York:20231126T130000
DTEND;TZID=America/New_York:20231126T150000
LOCATION:Sisters of St Joseph\, 1725 Brentwood Rd\, Brentwood\, NY 11717
END:VEVENT
END:VCALENDAR