BEGIN:VCALENDAR
METHOD:PUBLISH
VERSION:2.0
CALSCALE:GREGORIAN
PRODID:-//NONSGML Sandhills Development\, LLC//NONSGML Sugar Calendar Fe
 eds v3.8.1//EN
X-WR-CALNAME:October 2023 Monthly Meeting
X-WR-CALDESC:Long Island Beekeepers Club
X-WR-TIMEZONE:America/New_York
BEGIN:VTIMEZONE
TZID:America/New_York
BEGIN:DAYLIGHT
TZOFFSETFROM:-0400
TZOFFSETTO:-0400
DTSTART:20230423T010000
TZNAME:EDT
END:DAYLIGHT
END:VTIMEZONE
BEGIN:VTIMEZONE
TZID:America/New_York
BEGIN:DAYLIGHT
TZOFFSETFROM:-0400
TZOFFSETTO:-0400
DTSTART:20230423T010000
TZNAME:EDT
END:DAYLIGHT
END:VTIMEZONE
BEGIN:VEVENT
SUMMARY:October 2023 Monthly Meeting
DESCRIPTION:
URL;VALUE=URI:https://longislandbeekeepers.org/events/october-2023-month
 ly-meeting/
UID:urn:uuid:b7f0cd20-410a-40d1-aa56-f9d81e0beaa9
STATUS:CONFIRMED
ORGANIZER:
DTSTAMP:20260423T203756Z
DTSTART;TZID=America/New_York:20231022T130000
DTEND;TZID=America/New_York:20231022T150000
LOCATION:Sisters of St Joseph\, 1725 Brentwood Rd\, Brentwood\, NY 11717
END:VEVENT
END:VCALENDAR