BEGIN:VCALENDAR
METHOD:PUBLISH
VERSION:2.0
CALSCALE:GREGORIAN
PRODID:-//NONSGML Sandhills Development\, LLC//NONSGML Sugar Calendar Fe
 eds v3.8.1//EN
X-WR-CALNAME:September 2023 Monthly Meeting
X-WR-CALDESC:Long Island Beekeepers Club
X-WR-TIMEZONE:America/New_York
BEGIN:VTIMEZONE
TZID:America/New_York
BEGIN:DAYLIGHT
TZOFFSETFROM:-0400
TZOFFSETTO:-0400
DTSTART:20230402T010000
TZNAME:EDT
END:DAYLIGHT
END:VTIMEZONE
BEGIN:VTIMEZONE
TZID:America/New_York
BEGIN:DAYLIGHT
TZOFFSETFROM:-0400
TZOFFSETTO:-0400
DTSTART:20230402T010000
TZNAME:EDT
END:DAYLIGHT
END:VTIMEZONE
BEGIN:VEVENT
SUMMARY:September 2023 Monthly Meeting
DESCRIPTION:The meeting will be held at Building 2 of the Sisters of St.
  Joseph (green cupola). Follow the yellow BEE MEETING signs. The doors w
 ill open at 12:30\, and the meeting will begin the meeting at 1:00.\n\n 
 	Kathy and Toni can always use help setting up the hospitality table\, a
 nd of course\, donations of cake or cookies and the like are always welc
 ome!\n 	The Library will be open for lending and returning books.Â  If y
 ou know of a good book to add to the library\, please speak to LorraineÂ
   The new policy will be in effect in July\, whereby you will be able to
  take books out and return them the next month as usual.Â  If you fail t
 o return the books after 2 months then the name of the borrower will be 
 list in the "Delinquent Borrower" section of the Newsletter.\n 	If your 
 duesÂ are due\, you can pay online on the website\, or pay in person at 
 the meeting.Â  See Conni to pay your dues in person.Â  When your dues ar
 e delinquent\, you drop off the email list.Â  If you don't get emails\, 
 check that your dues are current!!\n 	ClubÂ T-shirtsÂ andÂ sweat shirtsÂ
  will be available to purchase.\n 	Just to lock in the date\, our HOLIDA
 Y PARTYÂ will be December 3rd at the Blue Blinds Manor (Elks Club) in Sm
 ithtown.Â  The signup sheet will go around at the October and November m
 eeting.Â  Money and reservations will be taken by Joan Mahoney at those 
 meetings.\n 	We have scheduled the Beginner Beekeeping Class and the Sec
 ond Year Beekeeper Class for 2024.Â  They will be held on January 13th a
 nd February 3rd respectively.Â  Mark your calendars for that!\n 	The Boa
 rd has decided that it is finally time to increase our dues\, which has 
 remained the same for many years.Â  As of January 2024\, the dues will b
 e $40.
URL;VALUE=URI:https://longislandbeekeepers.org/events/september-2023-mon
 thly-meeting/
UID:urn:uuid:b7f0cd20-410a-40d1-aa56-f9d81e0beaa9
STATUS:CONFIRMED
ORGANIZER:
DTSTAMP:20260423T191117Z
DTSTART;TZID=America/New_York:20231001T130000
DTEND;TZID=America/New_York:20231001T150000
LOCATION:Sisters of St Joseph\, 1725 Brentwood Rd\, Brentwood\, NY 11717
END:VEVENT
END:VCALENDAR