BEGIN:VCALENDAR
METHOD:PUBLISH
VERSION:2.0
CALSCALE:GREGORIAN
PRODID:-//NONSGML Sandhills Development\, LLC//NONSGML Sugar Calendar Fe
 eds v3.8.1//EN
X-WR-CALNAME:Teaching Apiary Session
X-WR-CALDESC:Long Island Beekeepers Club
X-WR-TIMEZONE:America/New_York
BEGIN:VTIMEZONE
TZID:America/New_York
BEGIN:DAYLIGHT
TZOFFSETFROM:-0500
TZOFFSETTO:-0400
DTSTART:20240310T070000
TZNAME:EDT
END:DAYLIGHT
END:VTIMEZONE
BEGIN:VTIMEZONE
TZID:America/New_York
BEGIN:DAYLIGHT
TZOFFSETFROM:-0500
TZOFFSETTO:-0400
DTSTART:20240310T070000
TZNAME:EDT
END:DAYLIGHT
END:VTIMEZONE
BEGIN:VEVENT
SUMMARY:Teaching Apiary Session
DESCRIPTION:Join us for a unique learning experience led by Roy Baillard
 . Each session is crafted to offer both new and seasoned beekeepers prac
 tical insights and hands-on experience in beekeeping.\n\n\n\nWhat to Bri
 ng:\n\n\n\n\nBeekeeping suit or jacket and veil\n\n\n\nGloves\n\n\n\nWat
 er bottle\n\n\n\nNote-taking materials\n\n\n\n\nWhether you're taking yo
 ur first steps into beekeeping or looking to deepen your existing knowle
 dge\, our Teaching Apiary Sessions are the perfect opportunity to learn 
 and grow in a supportive community setting.\n\n\n\nSafety Note:\n\n\n\nF
 or the safety and comfort of all participants\, appropriate protective c
 lothing is required. All participants are responsible for their own safe
 ty around the hives\, including the need for any medications for stings.
  \n\n\n\nLocation:\n\n\n\nFind the LIBC Teaching Apiary at 1725 Brentwoo
 d Rd\, Brentwood\, NY 11717\, on the Sisters of St. Joseph's Campus. Ent
 er from Brentwood Rd (opposite 5th Ave.)\, proceed straight past the gua
 rd shack\, right at Maria Regina Rehab\, right at the circle towards the
  parking's end\, then right again at the rain garden. Park near the Hone
 y House where others have parked. Meet your instructor at the Honey Hous
 e\; hives are on its left.\n\n\n\nRSVP:\n\n\n\nThis is a FREE event for 
 members only and spaces are limited. Email the session's instructor to r
 eserve your spot. Log in to your My Account Page to find the appropriate
  email.\n\n\n\nIf you are not a member and would like to attend a sessio
 n\, please join the club here.
URL;VALUE=URI:https://longislandbeekeepers.org/events/teaching-apiary-se
 ssion-24-07-27/
UID:urn:uuid:d82bf7ae-4c48-4851-8444-3e6632098c75
STATUS:CONFIRMED
ORGANIZER:
DTSTAMP:20260423T220527Z
DTSTART;TZID=America/New_York:20240727T100000
DTEND;TZID=America/New_York:20240727T120000
LOCATION:LIBC Teaching Apiary\, 1725 Brentwood Rd\, Brentwood\, NY 11717
END:VEVENT
END:VCALENDAR