BEGIN:VCALENDAR
METHOD:PUBLISH
VERSION:2.0
CALSCALE:GREGORIAN
PRODID:-//NONSGML Sandhills Development\, LLC//NONSGML Sugar Calendar Fe
 eds v3.8.1//EN
X-WR-CALNAME:Teaching Apiary Session
X-WR-CALDESC:Long Island Beekeepers Club
X-WR-TIMEZONE:America/New_York
BEGIN:VTIMEZONE
TZID:America/New_York
BEGIN:DAYLIGHT
TZOFFSETFROM:-0500
TZOFFSETTO:-0400
DTSTART:20240310T070000
TZNAME:EDT
END:DAYLIGHT
END:VTIMEZONE
BEGIN:VTIMEZONE
TZID:America/New_York
BEGIN:DAYLIGHT
TZOFFSETFROM:-0500
TZOFFSETTO:-0400
DTSTART:20240310T070000
TZNAME:EDT
END:DAYLIGHT
END:VTIMEZONE
BEGIN:VEVENT
SUMMARY:Teaching Apiary Session
DESCRIPTION:Join us for a unique learning experience led by master beeke
 eper Marianne Sangesland and John Most. Each session is crafted to offer
  both new and seasoned beekeepers practical insights and hands-on experi
 ence in beekeeping.\n\n\n\nWhat to Bring:\n\n\n\n\nBeekeeping suit or ja
 cket and veil\n\n\n\nGloves\n\n\n\nWater bottle\n\n\n\nNote-taking mater
 ials\n\n\n\n\nWhether you're taking your first steps into beekeeping or 
 looking to deepen your existing knowledge\, our Teaching Apiary Sessions
  are the perfect opportunity to learn and grow in a supportive community
  setting.\n\n\n\nSafety Note:\n\n\n\nFor the safety and comfort of all p
 articipants\, appropriate protective clothing is required. All participa
 nts are responsible for their own safety around the hives\, including th
 e need for any medications for stings. \n\n\n\nLocation:\n\n\n\nFind the
  LIBC Teaching Apiary at 1725 Brentwood Rd\, Brentwood\, NY 11717\, on t
 he Sisters of St. Joseph's Campus. Enter from Brentwood Rd (opposite 5th
  Ave.)\, proceed straight past the guard shack\, right at Maria Regina R
 ehab\, right at the circle towards the parking's end\, then right again 
 at the rain garden. Park near the Honey House where others have parked. 
 Meet your instructor at the Honey House\; hives are on its left.\n\n\n\n
 RSVP:\n\n\n\nThis is a FREE event for members only and spaces are limite
 d. Email the session's instructor to reserve your spot. Log in to your M
 y Account Page to find the appropriate email.\n\n\n\nIf you are not a me
 mber and would like to attend a session\, please join the club here.
URL;VALUE=URI:https://longislandbeekeepers.org/events/teaching-apiary-se
 ssion-24-08-24/
UID:urn:uuid:d82bf7ae-4c48-4851-8444-3e6632098c75
STATUS:CONFIRMED
ORGANIZER:
DTSTAMP:20260423T220344Z
DTSTART;TZID=America/New_York:20240824T100000
DTEND;TZID=America/New_York:20240824T120000
LOCATION:LIBC Teaching Apiary\, 1725 Brentwood Rd\, Brentwood\, NY 11717
END:VEVENT
END:VCALENDAR