BEGIN:VCALENDAR
METHOD:PUBLISH
VERSION:2.0
CALSCALE:GREGORIAN
PRODID:-//NONSGML Sandhills Development\, LLC//NONSGML Sugar Calendar Fe
 eds v3.8.1//EN
X-WR-CALNAME:Teaching Apiary Session
X-WR-CALDESC:Long Island Beekeepers Club
X-WR-TIMEZONE:America/New_York
BEGIN:VTIMEZONE
TZID:America/New_York
BEGIN:DAYLIGHT
TZOFFSETFROM:-0500
TZOFFSETTO:-0400
DTSTART:20240310T070000
TZNAME:EDT
END:DAYLIGHT
END:VTIMEZONE
BEGIN:VTIMEZONE
TZID:America/New_York
BEGIN:DAYLIGHT
TZOFFSETFROM:-0500
TZOFFSETTO:-0400
DTSTART:20240310T070000
TZNAME:EDT
END:DAYLIGHT
END:VTIMEZONE
BEGIN:VEVENT
SUMMARY:Teaching Apiary Session
DESCRIPTION:Join us for a unique learning experience led by master beeke
 eper Moira Alexander. Each session is crafted to offer both new and seas
 oned beekeepers practical insights and hands-on experience in beekeeping
 .\n\n\n\nWhat to Bring:\n\n\n\n\nBeekeeping suit or jacket and veil\n\n\
 n\nGloves\n\n\n\nWater bottle\n\n\n\nNote-taking materials\n\n\n\n\nWhet
 her you're taking your first steps into beekeeping or looking to deepen 
 your existing knowledge\, our Teaching Apiary Sessions are the perfect o
 pportunity to learn and grow in a supportive community setting.\n\n\n\nS
 afety Note:\n\n\n\nFor the safety and comfort of all participants\, appr
 opriate protective clothing is required. All participants are responsibl
 e for their own safety around the hives\, including the need for any med
 ications for stings. \n\n\n\nLocation:\n\n\n\nFind the LIBC Teaching Api
 ary at 1725 Brentwood Rd\, Brentwood\, NY 11717\, on the Sisters of St. 
 Joseph's Campus. Enter from Brentwood Rd (opposite 5th Ave.)\, proceed s
 traight past the guard shack\, right at Maria Regina Rehab\, right at th
 e circle towards the parking's end\, then right again at the rain garden
 . Park near the Honey House where others have parked. Meet your instruct
 or at the Honey House\; hives are on its left.\n\n\n\nRSVP:\n\n\n\nThis 
 is a FREE event for members only and spaces are limited. Email the sessi
 on's instructor to reserve your spot. Log in to your My Account Page to 
 find the appropriate email.\n\n\n\nIf you are not a member and would lik
 e to attend a session\, please join the club here.
URL;VALUE=URI:https://longislandbeekeepers.org/events/teaching-apiary-se
 ssion-3-2/
UID:urn:uuid:d82bf7ae-4c48-4851-8444-3e6632098c75
STATUS:CONFIRMED
ORGANIZER:
DTSTAMP:20260423T203444Z
DTSTART;TZID=America/New_York:20240518T100000
DTEND;TZID=America/New_York:20240518T120000
LOCATION:LIBC Teaching Apiary\, 1725 Brentwood Rd\, Brentwood\, NY 11717
END:VEVENT
END:VCALENDAR