BEGIN:VCALENDAR
METHOD:PUBLISH
VERSION:2.0
CALSCALE:GREGORIAN
PRODID:-//NONSGML Sandhills Development\, LLC//NONSGML Sugar Calendar Fe
 eds v3.8.1//EN
X-WR-CALNAME:Teaching Apiary Session
X-WR-CALDESC:Long Island Beekeepers Club
X-WR-TIMEZONE:America/New_York
BEGIN:VTIMEZONE
TZID:America/New_York
BEGIN:STANDARD
TZOFFSETFROM:-0400
TZOFFSETTO:-0500
DTSTART:20231105T060000
TZNAME:EST
END:STANDARD
BEGIN:DAYLIGHT
TZOFFSETFROM:-0500
TZOFFSETTO:-0400
DTSTART:20240310T070000
TZNAME:EDT
END:DAYLIGHT
END:VTIMEZONE
BEGIN:VTIMEZONE
TZID:America/New_York
BEGIN:STANDARD
TZOFFSETFROM:-0400
TZOFFSETTO:-0500
DTSTART:20231105T060000
TZNAME:EST
END:STANDARD
BEGIN:DAYLIGHT
TZOFFSETFROM:-0500
TZOFFSETTO:-0400
DTSTART:20240310T070000
TZNAME:EDT
END:DAYLIGHT
END:VTIMEZONE
BEGIN:VEVENT
SUMMARY:Teaching Apiary Session
DESCRIPTION:This Saturday\, join us for a unique learning experience led
  by master beekeeper Joan Mahoney. Each session is crafted to offer both
  new and seasoned beekeepers practical insights and hands-on experience 
 in beekeeping.\n\n\n\nWhat to Bring:\n\n\n\n\nBeekeeping suit or jacket 
 and veil\n\n\n\nGloves\n\n\n\nWater bottle\n\n\n\nNote-taking materials\
 n\n\n\n\nWhether you're taking your first steps into beekeeping or looki
 ng to deepen your existing knowledge\, our Teaching Apiary Sessions are 
 the perfect opportunity to learn and grow in a supportive community sett
 ing.\n\n\n\nSafety Note:\n\n\n\nFor the safety and comfort of all partic
 ipants\, appropriate protective clothing is required. All participants a
 re responsible for their own safety around the hives\, including the nee
 d for any medications for stings. \n\n\n\nLocation:\n\n\n\nFind the LIBC
  Teaching Apiary at 1725 Brentwood Rd\, Brentwood\, NY 11717\, on the Si
 sters of St. Joseph's Campus. Enter from Brentwood Rd (opposite 5th Ave.
 )\, proceed straight past the guard shack\, right at Maria Regina Rehab\
 , right at the circle towards the parking's end\, then right again at th
 e rain garden. Park near the Honey House where others have parked. Meet 
 your instructor at the Honey House\; hives are on its left.\n\n\n\nRSVP:
 \n\n\n\nThis is a FREE event for members only and spaces are limited. Em
 ail the session's instructor to reserve your spot. Log in to your My Acc
 ount Page to find the appropriate email.\n\n\n\nIf you are not a member 
 and would like to attend a session\, please join the club here.
URL;VALUE=URI:https://longislandbeekeepers.org/events/teaching-apiary-se
 ssion-3/
UID:urn:uuid:d82bf7ae-4c48-4851-8444-3e6632098c75
STATUS:CONFIRMED
ORGANIZER:
DTSTAMP:20260423T203417Z
DTSTART;TZID=America/New_York:20240504T100000
DTEND;TZID=America/New_York:20240504T120000
LOCATION:Sisters of St. Joseph's Campus\, 1725 Brentwood Rd\, Brentwood\
 , NY 11717
END:VEVENT
END:VCALENDAR