BEGIN:VCALENDAR
METHOD:PUBLISH
VERSION:2.0
CALSCALE:GREGORIAN
PRODID:-//NONSGML Sandhills Development\, LLC//NONSGML Sugar Calendar Fe
 eds v3.8.1//EN
X-WR-CALNAME:Teaching Apiary Session - 4/11/2026
X-WR-CALDESC:Long Island Beekeepers Club
X-WR-TIMEZONE:America/New_York
BEGIN:VTIMEZONE
TZID:America/New_York
BEGIN:STANDARD
TZOFFSETFROM:-0400
TZOFFSETTO:-0500
DTSTART:20251102T060000
TZNAME:EST
END:STANDARD
BEGIN:DAYLIGHT
TZOFFSETFROM:-0500
TZOFFSETTO:-0400
DTSTART:20260308T070000
TZNAME:EDT
END:DAYLIGHT
END:VTIMEZONE
BEGIN:VTIMEZONE
TZID:America/New_York
BEGIN:STANDARD
TZOFFSETFROM:-0400
TZOFFSETTO:-0500
DTSTART:20251102T060000
TZNAME:EST
END:STANDARD
BEGIN:DAYLIGHT
TZOFFSETFROM:-0500
TZOFFSETTO:-0400
DTSTART:20260308T070000
TZNAME:EDT
END:DAYLIGHT
END:VTIMEZONE
BEGIN:VEVENT
SUMMARY:Teaching Apiary Session - 4/11/2026
DESCRIPTION:Join us for a unique learning experience. Each session is cr
 afted to offer both new and seasoned beekeepers practical insights and h
 ands-on experience in beekeeping.\n\n\n\nWhat to Bring:\n\n\n\n\nBeekeep
 ing suit or jacket and veil\n\n\n\nGloves\n\n\n\nWater bottle\n\n\n\nNot
 e-taking materials\n\n\n\n\nWhether you're taking your first steps into 
 beekeeping or looking to deepen your existing knowledge\, our Teaching A
 piary Sessions are the perfect opportunity to learn and grow in a suppor
 tive community setting.\n\n\n\nSafety Note:\n\n\n\nFor the safety and co
 mfort of all participants\, appropriate protective clothing is required.
  All participants are responsible for their own safety around the hives\
 , including the need for any medications for stings. Attendees without a
  veil will not be allowed to participate.\n\n\n\nLocation:\n\n\n\nFind t
 he LIBC Teaching Apiary at 1725 Brentwood Rd\, Brentwood\, NY 11717\, on
  the Sisters of St. Joseph's Campus. Enter from Brentwood Rd (opposite 5
 th Ave.)\, proceed straight past the guard shack\, right at Maria Regina
  Rehab\, right at the circle towards the parking's end\, then right agai
 n at the rain garden. Park near the Honey House where others have parked
 . Meet your instructor at the Honey House\; hives are on its left.\n\n\n
 \nRSVP:\n\n\n\nThis is a FREE event for members only and spaces are limi
 ted. Email the instructor to claim your spot. Login to your My Account P
 age to get the instructor's email.
URL;VALUE=URI:https://longislandbeekeepers.org/events/teaching-apiary-se
 ssion-4-11-2026/
UID:urn:uuid:d82bf7ae-4c48-4851-8444-3e6632098c75
STATUS:CONFIRMED
ORGANIZER:
DTSTAMP:20260425T102837Z
DTSTART;TZID=America/New_York:20260411T103000
DTEND;TZID=America/New_York:20260411T120000
LOCATION:1725 Brentwood Rd
END:VEVENT
END:VCALENDAR